BEGIN:VCALENDAR
VERSION:2.0
PRODID:
CALSCALE:GREGORIAN
METHOD:PUBLISH
BEGIN:VTIMEZONE
TZID:America/New_York
BEGIN:STANDARD
DTSTART:19701025T060000
TZOFFSETTO:-0500
TZOFFSETFROM:-0400
RRULE:FREQ=YEARLY;BYMONTH=11;BYDAY=1SU
END:STANDARD
BEGIN:DAYLIGHT
DTSTART:19700426T070000
TZOFFSETTO:-0400
TZOFFSETFROM:-0500
RRULE:FREQ=YEARLY;BYMONTH=3;BYDAY=2SU
END:DAYLIGHT
END:VTIMEZONE
BEGIN:VEVENT
UID:999
DTSTART:20260423T093000
DTEND:20260423T100000
STATUS:
SUMMARY:Joga dla seniora (obiekty GCS)
DESCRIPTION:
LOCATION;LANGUAGE=pl:Hala Lekkoatletyczna GCS (sala fitness), ul. Olim
 pijska 5, 81-538 Gdynia
DTSTAMP:20260423T150516Z
ORGANIZER;CN=Gdyńskie centrum sportu;LANGUAGE=pl:
END:VEVENT
END:VCALENDAR
